BEGIN:VCALENDAR
VERSION:2.0
PRODID:-//Mindy Kay Ray - ECPv6.15.20//NONSGML v1.0//EN
CALSCALE:GREGORIAN
METHOD:PUBLISH
X-WR-CALNAME:Mindy Kay Ray
X-ORIGINAL-URL:https://mindykayray.com
X-WR-CALDESC:Events for Mindy Kay Ray
REFRESH-INTERVAL;VALUE=DURATION:PT1H
X-Robots-Tag:noindex
X-PUBLISHED-TTL:PT1H
BEGIN:VTIMEZONE
TZID:America/Chicago
BEGIN:DAYLIGHT
TZOFFSETFROM:-0600
TZOFFSETTO:-0500
TZNAME:CDT
DTSTART:20250309T080000
END:DAYLIGHT
BEGIN:STANDARD
TZOFFSETFROM:-0500
TZOFFSETTO:-0600
TZNAME:CST
DTSTART:20251102T070000
END:STANDARD
BEGIN:DAYLIGHT
TZOFFSETFROM:-0600
TZOFFSETTO:-0500
TZNAME:CDT
DTSTART:20260308T080000
END:DAYLIGHT
BEGIN:STANDARD
TZOFFSETFROM:-0500
TZOFFSETTO:-0600
TZNAME:CST
DTSTART:20261101T070000
END:STANDARD
BEGIN:DAYLIGHT
TZOFFSETFROM:-0600
TZOFFSETTO:-0500
TZNAME:CDT
DTSTART:20270314T080000
END:DAYLIGHT
BEGIN:STANDARD
TZOFFSETFROM:-0500
TZOFFSETTO:-0600
TZNAME:CST
DTSTART:20271107T070000
END:STANDARD
END:VTIMEZONE
BEGIN:VEVENT
DTSTART;TZID=America/Chicago:20260208T090000
DTEND;TZID=America/Chicago:20260208T150000
DTSTAMP:20260420T082011
CREATED:20260112T221441Z
LAST-MODIFIED:20260112T221441Z
UID:4754-1770541200-1770562800@mindykayray.com
SUMMARY:Conceal with Confidence
DESCRIPTION:This class is designed to develop safe & well-rounded citizens who believe now is the time to consider having a firearm with them. You may have received your Texas License to Carry but “HOW do I carry”? \nMore Info/Sign Up
URL:https://mindykayray.com/event/conceal-with-confidence-16/
LOCATION:407 Gun Club\, 831 FM 407\, Argyle\, TX\, 76226\, United States
CATEGORIES:Conceal with Confidence
ATTACH;FMTTYPE=image/jpeg:https://mindykayray.com/wp-content/uploads/2020/10/conceal.jpg
END:VEVENT
BEGIN:VEVENT
DTSTART;TZID=America/Chicago:20260222T090000
DTEND;TZID=America/Chicago:20260222T130000
DTSTAMP:20260420T082011
CREATED:20260107T052830Z
LAST-MODIFIED:20260107T052830Z
UID:4737-1771750800-1771765200@mindykayray.com
SUMMARY:Train to Win for Ladies & Gentlemen
DESCRIPTION:You’ve had a Beginner Handgun  and Conceal with Confidence or holster draw\, and now it’s time to train your brain during scenario based training! This class bases the drills on your comfort and speed. From just getting started to advanced\, the scenarios are based on your level of training. All drills will be “from the holster or from concealment”. How do you carry your personal protection device in public? \n  \nMore Info/Sign Up
URL:https://mindykayray.com/event/train-to-win-for-ladies-gentlemen-21/
LOCATION:407 Gun Club\, 831 FM 407\, Argyle\, TX\, 76226\, United States
CATEGORIES:Train to Win
ATTACH;FMTTYPE=image/jpeg:https://mindykayray.com/wp-content/uploads/2022/12/Kristen.jpg
END:VEVENT
END:VCALENDAR