BEGIN:VCALENDAR
VERSION:2.0
PRODID:-//Mindy Kay Ray - ECPv6.15.20//NONSGML v1.0//EN
CALSCALE:GREGORIAN
METHOD:PUBLISH
X-WR-CALNAME:Mindy Kay Ray
X-ORIGINAL-URL:https://mindykayray.com
X-WR-CALDESC:Events for Mindy Kay Ray
REFRESH-INTERVAL;VALUE=DURATION:PT1H
X-Robots-Tag:noindex
X-PUBLISHED-TTL:PT1H
BEGIN:VTIMEZONE
TZID:America/Chicago
BEGIN:DAYLIGHT
TZOFFSETFROM:-0600
TZOFFSETTO:-0500
TZNAME:CDT
DTSTART:20230312T080000
END:DAYLIGHT
BEGIN:STANDARD
TZOFFSETFROM:-0500
TZOFFSETTO:-0600
TZNAME:CST
DTSTART:20231105T070000
END:STANDARD
BEGIN:DAYLIGHT
TZOFFSETFROM:-0600
TZOFFSETTO:-0500
TZNAME:CDT
DTSTART:20240310T080000
END:DAYLIGHT
BEGIN:STANDARD
TZOFFSETFROM:-0500
TZOFFSETTO:-0600
TZNAME:CST
DTSTART:20241103T070000
END:STANDARD
BEGIN:DAYLIGHT
TZOFFSETFROM:-0600
TZOFFSETTO:-0500
TZNAME:CDT
DTSTART:20250309T080000
END:DAYLIGHT
BEGIN:STANDARD
TZOFFSETFROM:-0500
TZOFFSETTO:-0600
TZNAME:CST
DTSTART:20251102T070000
END:STANDARD
END:VTIMEZONE
BEGIN:VEVENT
DTSTART;TZID=America/Chicago:20241124T090000
DTEND;TZID=America/Chicago:20241124T130000
DTSTAMP:20260420T065216
CREATED:20240927T031409Z
LAST-MODIFIED:20240927T031409Z
UID:4194-1732438800-1732453200@mindykayray.com
SUMMARY:Train to Win for Ladies & Gentlemen
DESCRIPTION:This class used to be called “Practice Day”. \nYou have a gun\, now what? You HAVE to train! You need to learn the ins and outs of ‘every day carry’ in a positive environment. This is not competition based training. This is training for scenarios that you might encounter in your daily life. \nYou’ve had a Beginner Handgun  and Conceal with Confidence or holster draw\, and now it’s time to train your brain during scenario based training! This class bases the drills on your comfort and speed. From just getting started to advanced\, the scenarios are based on your level of training. All drills will be “from the holster or from concealment”. How do you carry your personal protection device in public? You’ll need a well maintained firearm and an approved concealment option (see below). Please email me with any questions @ mindykayray@gmail.com. \nPulling a trigger is very easy. Training the brain to work under stress is a whole other story. You need frequent exposure to “running your gun” that does not include standing still in a shooting stall. \nMore Info/Sign Up
URL:https://mindykayray.com/event/train-to-win-for-ladies-gentlemen-7/
LOCATION:407 Gun Club\, 831 FM 407\, Argyle\, TX\, 76226\, United States
CATEGORIES:Train to Win
ATTACH;FMTTYPE=image/jpeg:https://mindykayray.com/wp-content/uploads/2022/12/Kristen.jpg
END:VEVENT
END:VCALENDAR