BEGIN:VCALENDAR
VERSION:2.0
PRODID:-//Mindy Kay Ray - ECPv6.15.20//NONSGML v1.0//EN
CALSCALE:GREGORIAN
METHOD:PUBLISH
X-WR-CALNAME:Mindy Kay Ray
X-ORIGINAL-URL:https://mindykayray.com
X-WR-CALDESC:Events for Mindy Kay Ray
REFRESH-INTERVAL;VALUE=DURATION:PT1H
X-Robots-Tag:noindex
X-PUBLISHED-TTL:PT1H
BEGIN:VTIMEZONE
TZID:America/Chicago
BEGIN:DAYLIGHT
TZOFFSETFROM:-0600
TZOFFSETTO:-0500
TZNAME:CDT
DTSTART:20230312T080000
END:DAYLIGHT
BEGIN:STANDARD
TZOFFSETFROM:-0500
TZOFFSETTO:-0600
TZNAME:CST
DTSTART:20231105T070000
END:STANDARD
BEGIN:DAYLIGHT
TZOFFSETFROM:-0600
TZOFFSETTO:-0500
TZNAME:CDT
DTSTART:20240310T080000
END:DAYLIGHT
BEGIN:STANDARD
TZOFFSETFROM:-0500
TZOFFSETTO:-0600
TZNAME:CST
DTSTART:20241103T070000
END:STANDARD
BEGIN:DAYLIGHT
TZOFFSETFROM:-0600
TZOFFSETTO:-0500
TZNAME:CDT
DTSTART:20250309T080000
END:DAYLIGHT
BEGIN:STANDARD
TZOFFSETFROM:-0500
TZOFFSETTO:-0600
TZNAME:CST
DTSTART:20251102T070000
END:STANDARD
END:VTIMEZONE
BEGIN:VEVENT
DTSTART;TZID=America/Chicago:20241117T090000
DTEND;TZID=America/Chicago:20241117T130000
DTSTAMP:20260420T065206
CREATED:20240927T024852Z
LAST-MODIFIED:20240927T024852Z
UID:4176-1731834000-1731848400@mindykayray.com
SUMMARY:Beginner Handgun Class
DESCRIPTION:Your very first experience with a handgun should be a positive experience\, PERIOD. If it’s not\, you’ll never want to shoot again. I’ve made it my mission to EMPOWER my students through positive reinforcement in the class and on the range! This class is taught by a female firearms instructor who trains the everyday person how to safely learn their way around a handgun! This is a great class if your dad or brother taught you to shoot or if you need a refresher because it’s been a month of Sundays since you’ve shot. \nMore Info/Sign Up
URL:https://mindykayray.com/event/beginner-handgun-class/
LOCATION:407 Gun Club\, 831 FM 407\, Argyle\, TX\, 76226\, United States
CATEGORIES:Beginner Handgun
ATTACH;FMTTYPE=image/png:https://mindykayray.com/wp-content/uploads/2023/11/BH-with-LTC-.png
END:VEVENT
BEGIN:VEVENT
DTSTART;TZID=America/Chicago:20241117T090000
DTEND;TZID=America/Chicago:20241117T160000
DTSTAMP:20260420T065206
CREATED:20240927T025306Z
LAST-MODIFIED:20240927T025306Z
UID:4179-1731834000-1731859200@mindykayray.com
SUMMARY:Beginner Handgun Class with TX LTC
DESCRIPTION:Your very first experience with a handgun should be a positive experience\, PERIOD. If it’s not\, you’ll never want to shoot again. I’ve made it my mission to EMPOWER my students through positive reinforcement in the class and on the range! This class is taught by a female firearms instructor who trains the everyday person how to safely learn their way around a handgun! This is a great class if your dad or brother taught you to shoot or if you need a refresher because it’s been a month of Sundays since you’ve shot. \nMore Info/Sign Up
URL:https://mindykayray.com/event/beginner-handgun-class-with-tx-ltc/
LOCATION:407 Gun Club\, 831 FM 407\, Argyle\, TX\, 76226\, United States
CATEGORIES:Beginner Handgun,Beginner Handgun & TX LTC
ATTACH;FMTTYPE=image/png:https://mindykayray.com/wp-content/uploads/2023/11/BH-with-LTC-.png
END:VEVENT
END:VCALENDAR