BEGIN:VCALENDAR
VERSION:2.0
PRODID:-//Mindy Kay Ray - ECPv6.15.20//NONSGML v1.0//EN
CALSCALE:GREGORIAN
METHOD:PUBLISH
X-WR-CALNAME:Mindy Kay Ray
X-ORIGINAL-URL:https://mindykayray.com
X-WR-CALDESC:Events for Mindy Kay Ray
REFRESH-INTERVAL;VALUE=DURATION:PT1H
X-Robots-Tag:noindex
X-PUBLISHED-TTL:PT1H
BEGIN:VTIMEZONE
TZID:America/Chicago
BEGIN:DAYLIGHT
TZOFFSETFROM:-0600
TZOFFSETTO:-0500
TZNAME:CDT
DTSTART:20230312T080000
END:DAYLIGHT
BEGIN:STANDARD
TZOFFSETFROM:-0500
TZOFFSETTO:-0600
TZNAME:CST
DTSTART:20231105T070000
END:STANDARD
BEGIN:DAYLIGHT
TZOFFSETFROM:-0600
TZOFFSETTO:-0500
TZNAME:CDT
DTSTART:20240310T080000
END:DAYLIGHT
BEGIN:STANDARD
TZOFFSETFROM:-0500
TZOFFSETTO:-0600
TZNAME:CST
DTSTART:20241103T070000
END:STANDARD
BEGIN:DAYLIGHT
TZOFFSETFROM:-0600
TZOFFSETTO:-0500
TZNAME:CDT
DTSTART:20250309T080000
END:DAYLIGHT
BEGIN:STANDARD
TZOFFSETFROM:-0500
TZOFFSETTO:-0600
TZNAME:CST
DTSTART:20251102T070000
END:STANDARD
END:VTIMEZONE
BEGIN:VEVENT
DTSTART;TZID=America/Chicago:20241116T083000
DTEND;TZID=America/Chicago:20241116T113000
DTSTAMP:20260420T065215
CREATED:20241101T170716Z
LAST-MODIFIED:20241101T170716Z
UID:4216-1731745800-1731756600@mindykayray.com
SUMMARY:Shotgun Skills Building Class
DESCRIPTION:This concept came about because there are no drill based long gun days in DFW that I know of. It’s either a full day class or match setting. Let’s get those rifles and shotguns out and RUN the dust off of them!\nTraining the brain to work under stress is another story. You need frequent exposure to “running your gun” that does not include standing still in a shooting stall… \nMore Info/Sign Up
URL:https://mindykayray.com/event/shotgun-skills-building-class-3/
LOCATION:ETTS Gun Range\, 620 Greathouse Rd\, Waxahachie\, TX\, 75167\, United States
CATEGORIES:Shotgun Skills Building Class
ATTACH;FMTTYPE=image/jpeg:https://mindykayray.com/wp-content/uploads/2024/03/Rifle-or-Shotgun.jpg
END:VEVENT
BEGIN:VEVENT
DTSTART;TZID=America/Chicago:20241116T123000
DTEND;TZID=America/Chicago:20241116T153000
DTSTAMP:20260420T065215
CREATED:20241101T170917Z
LAST-MODIFIED:20241101T170917Z
UID:4218-1731760200-1731771000@mindykayray.com
SUMMARY:AR15 (Carbine) Skills Building Class
DESCRIPTION:This concept came about because there are no drill based long gun days in DFW that I know of. It’s either a full day class or match setting. Let’s get those rifles and shotguns out and RUN the dust off of them!\nTraining the brain to work under stress is another story. You need frequent exposure to “running your gun” that does not include standing still in a shooting stall… \nMore Info/Sign Up
URL:https://mindykayray.com/event/ar15-carbine-skills-building-class-3/
LOCATION:ETTS Gun Range\, 620 Greathouse Rd\, Waxahachie\, TX\, 75167\, United States
CATEGORIES:AR15 (Carbine) Skills Building Class
ATTACH;FMTTYPE=image/jpeg:https://mindykayray.com/wp-content/uploads/2024/03/Rifle-or-Shotgun.jpg
END:VEVENT
END:VCALENDAR